BEGIN:VCALENDAR
VERSION:2.0
PRODID:-//Material Things - ECPv6.15.16//NONSGML v1.0//EN
CALSCALE:GREGORIAN
METHOD:PUBLISH
X-ORIGINAL-URL:https://materialthingsshop.com
X-WR-CALDESC:Events for Material Things
REFRESH-INTERVAL;VALUE=DURATION:PT1H
X-Robots-Tag:noindex
X-PUBLISHED-TTL:PT1H
BEGIN:VTIMEZONE
TZID:America/Chicago
BEGIN:DAYLIGHT
TZOFFSETFROM:-0600
TZOFFSETTO:-0500
TZNAME:CDT
DTSTART:20240310T080000
END:DAYLIGHT
BEGIN:STANDARD
TZOFFSETFROM:-0500
TZOFFSETTO:-0600
TZNAME:CST
DTSTART:20241103T070000
END:STANDARD
BEGIN:DAYLIGHT
TZOFFSETFROM:-0600
TZOFFSETTO:-0500
TZNAME:CDT
DTSTART:20250309T080000
END:DAYLIGHT
BEGIN:STANDARD
TZOFFSETFROM:-0500
TZOFFSETTO:-0600
TZNAME:CST
DTSTART:20251102T070000
END:STANDARD
BEGIN:DAYLIGHT
TZOFFSETFROM:-0600
TZOFFSETTO:-0500
TZNAME:CDT
DTSTART:20260308T080000
END:DAYLIGHT
BEGIN:STANDARD
TZOFFSETFROM:-0500
TZOFFSETTO:-0600
TZNAME:CST
DTSTART:20261101T070000
END:STANDARD
END:VTIMEZONE
BEGIN:VEVENT
DTSTART;TZID=America/Chicago:20250710T090000
DTEND;TZID=America/Chicago:20250710T120000
DTSTAMP:20260218T100505
CREATED:20210528T210205Z
LAST-MODIFIED:20210528T210205Z
UID:25444-1752138000-1752148800@materialthingsshop.com
SUMMARY:Kid's Sewing Camp
DESCRIPTION:Session 1- July 7-10 from 9am-12pm \nSession 1 is a true beginner’s class and includes a sewing machine. \nYour camper will receive:\nSession 1-Husqvarna Viking H-Class E20 sewing machine\nSession 1-Essential sewing accessories that a beginner needs\nSession 1-Complete kits for all projects\nSession 1-Mid morning snack and drink\nSession 1-Teacher’s expertise \nSession 1 fee for everything is $495 per camper \nSession 1 campers will be working on and completing multiple projects. \nOpen to campers ages 9 and up \nIf you have camped with us in the past and would like to participate (refresher class) then you are welcome as well\, your machine just needs to be in original operating order (bring in ahead of time if it needs to be serviced) the fee for this is $295. \nCall or direct message the shop for more information and to register your camper.\n318-699-8964 \nXOXO\, Joyce
URL:https://materialthingsshop.com/event/kids-sewing-camp/2025-07-10/
LOCATION:MT Haberdashery\, 2305 Forsythe Ave\, Monroe\, LA\, 71201\, United States
CATEGORIES:Classes and Workshops
ATTACH;FMTTYPE=image/jpeg:https://materialthingsshop.com/wp-content/uploads/2021/05/B180E123-A658-49B6-A394-CE80BBE58F00.jpg
END:VEVENT
BEGIN:VEVENT
DTSTART;TZID=America/Chicago:20250709T090000
DTEND;TZID=America/Chicago:20250709T120000
DTSTAMP:20260218T100505
CREATED:20210528T210205Z
LAST-MODIFIED:20210528T210205Z
UID:25443-1752051600-1752062400@materialthingsshop.com
SUMMARY:Kid's Sewing Camp
DESCRIPTION:Session 1- July 7-10 from 9am-12pm \nSession 1 is a true beginner’s class and includes a sewing machine. \nYour camper will receive:\nSession 1-Husqvarna Viking H-Class E20 sewing machine\nSession 1-Essential sewing accessories that a beginner needs\nSession 1-Complete kits for all projects\nSession 1-Mid morning snack and drink\nSession 1-Teacher’s expertise \nSession 1 fee for everything is $495 per camper \nSession 1 campers will be working on and completing multiple projects. \nOpen to campers ages 9 and up \nIf you have camped with us in the past and would like to participate (refresher class) then you are welcome as well\, your machine just needs to be in original operating order (bring in ahead of time if it needs to be serviced) the fee for this is $295. \nCall or direct message the shop for more information and to register your camper.\n318-699-8964 \nXOXO\, Joyce
URL:https://materialthingsshop.com/event/kids-sewing-camp/2025-07-09/
LOCATION:MT Haberdashery\, 2305 Forsythe Ave\, Monroe\, LA\, 71201\, United States
CATEGORIES:Classes and Workshops
ATTACH;FMTTYPE=image/jpeg:https://materialthingsshop.com/wp-content/uploads/2021/05/B180E123-A658-49B6-A394-CE80BBE58F00.jpg
END:VEVENT
BEGIN:VEVENT
DTSTART;TZID=America/Chicago:20250708T090000
DTEND;TZID=America/Chicago:20250708T120000
DTSTAMP:20260218T100505
CREATED:20210528T210205Z
LAST-MODIFIED:20210528T210205Z
UID:25442-1751965200-1751976000@materialthingsshop.com
SUMMARY:Kid's Sewing Camp
DESCRIPTION:Session 1- July 7-10 from 9am-12pm \nSession 1 is a true beginner’s class and includes a sewing machine. \nYour camper will receive:\nSession 1-Husqvarna Viking H-Class E20 sewing machine\nSession 1-Essential sewing accessories that a beginner needs\nSession 1-Complete kits for all projects\nSession 1-Mid morning snack and drink\nSession 1-Teacher’s expertise \nSession 1 fee for everything is $495 per camper \nSession 1 campers will be working on and completing multiple projects. \nOpen to campers ages 9 and up \nIf you have camped with us in the past and would like to participate (refresher class) then you are welcome as well\, your machine just needs to be in original operating order (bring in ahead of time if it needs to be serviced) the fee for this is $295. \nCall or direct message the shop for more information and to register your camper.\n318-699-8964 \nXOXO\, Joyce
URL:https://materialthingsshop.com/event/kids-sewing-camp/2025-07-08/
LOCATION:MT Haberdashery\, 2305 Forsythe Ave\, Monroe\, LA\, 71201\, United States
CATEGORIES:Classes and Workshops
ATTACH;FMTTYPE=image/jpeg:https://materialthingsshop.com/wp-content/uploads/2021/05/B180E123-A658-49B6-A394-CE80BBE58F00.jpg
END:VEVENT
BEGIN:VEVENT
DTSTART;TZID=America/Chicago:20250707T090000
DTEND;TZID=America/Chicago:20250707T120000
DTSTAMP:20260218T100505
CREATED:20210528T210205Z
LAST-MODIFIED:20250526T215900Z
UID:3623-1751878800-1751889600@materialthingsshop.com
SUMMARY:Kid's Sewing Camp
DESCRIPTION:Session 1- July 7-10 from 9am-12pm \nSession 1 is a true beginner’s class and includes a sewing machine. \nYour camper will receive:\nSession 1-Husqvarna Viking H-Class E20 sewing machine\nSession 1-Essential sewing accessories that a beginner needs\nSession 1-Complete kits for all projects\nSession 1-Mid morning snack and drink\nSession 1-Teacher’s expertise \nSession 1 fee for everything is $495 per camper \nSession 1 campers will be working on and completing multiple projects. \nOpen to campers ages 9 and up \nIf you have camped with us in the past and would like to participate (refresher class) then you are welcome as well\, your machine just needs to be in original operating order (bring in ahead of time if it needs to be serviced) the fee for this is $295. \nCall or direct message the shop for more information and to register your camper.\n318-699-8964 \nXOXO\, Joyce
URL:https://materialthingsshop.com/event/kids-sewing-camp/2025-07-07/
LOCATION:MT Haberdashery\, 2305 Forsythe Ave\, Monroe\, LA\, 71201\, United States
CATEGORIES:Classes and Workshops
ATTACH;FMTTYPE=image/jpeg:https://materialthingsshop.com/wp-content/uploads/2021/05/B180E123-A658-49B6-A394-CE80BBE58F00.jpg
END:VEVENT
END:VCALENDAR