BEGIN:VCALENDAR
VERSION:2.0
PRODID:-//Material Things - ECPv6.15.20//NONSGML v1.0//EN
CALSCALE:GREGORIAN
METHOD:PUBLISH
X-WR-CALNAME:Material Things
X-ORIGINAL-URL:https://materialthingsshop.com
X-WR-CALDESC:Events for Material Things
REFRESH-INTERVAL;VALUE=DURATION:PT1H
X-Robots-Tag:noindex
X-PUBLISHED-TTL:PT1H
BEGIN:VTIMEZONE
TZID:America/Chicago
BEGIN:DAYLIGHT
TZOFFSETFROM:-0600
TZOFFSETTO:-0500
TZNAME:CDT
DTSTART:20250309T080000
END:DAYLIGHT
BEGIN:STANDARD
TZOFFSETFROM:-0500
TZOFFSETTO:-0600
TZNAME:CST
DTSTART:20251102T070000
END:STANDARD
BEGIN:DAYLIGHT
TZOFFSETFROM:-0600
TZOFFSETTO:-0500
TZNAME:CDT
DTSTART:20260308T080000
END:DAYLIGHT
BEGIN:STANDARD
TZOFFSETFROM:-0500
TZOFFSETTO:-0600
TZNAME:CST
DTSTART:20261101T070000
END:STANDARD
BEGIN:DAYLIGHT
TZOFFSETFROM:-0600
TZOFFSETTO:-0500
TZNAME:CDT
DTSTART:20270314T080000
END:DAYLIGHT
BEGIN:STANDARD
TZOFFSETFROM:-0500
TZOFFSETTO:-0600
TZNAME:CST
DTSTART:20271107T070000
END:STANDARD
END:VTIMEZONE
BEGIN:VEVENT
DTSTART;TZID=America/Chicago:20260107T110000
DTEND;TZID=America/Chicago:20260107T160000
DTSTAMP:20260424T131637
CREATED:20240702T165948Z
LAST-MODIFIED:20260104T014307Z
UID:15725-1767783600-1767801600@materialthingsshop.com
SUMMARY:Free Sew Day
DESCRIPTION:Join us every Wednesday for a free sew day. This is a great chance to get lots of projects finished or maybe start a new one ;-). Join us from 11-4. it doesn’t matter if you are machine or hand sewing\, just bring what you need\, bring a lunch and let’s get some things finished! *NO Charge* \n 
URL:https://materialthingsshop.com/event/workday-wednesday-2-2024-09-18/2026-01-07/
LOCATION:MT Haberdashery\, 2305 Forsythe Ave\, Monroe\, LA\, 71201\, United States
CATEGORIES:Classes and Workshops
ATTACH;FMTTYPE=image/jpeg:https://materialthingsshop.com/wp-content/uploads/2024/07/Image-1-2.jpg
END:VEVENT
BEGIN:VEVENT
DTSTART;TZID=America/Chicago:20260108T130000
DTEND;TZID=America/Chicago:20260108T160000
DTSTAMP:20260424T131637
CREATED:20250526T212739Z
LAST-MODIFIED:20260104T014752Z
UID:25363-1767877200-1767888000@materialthingsshop.com
SUMMARY:Needlepoint Sit & Stitch
DESCRIPTION:This is a free sew day open to everyone that is a beginner or has years of experience in needlepoint…just come and go at your own pace\, bring your project or purchase a new one with no worries about signing up ahead of time!
URL:https://materialthingsshop.com/event/needlepoint-sit-stitch/2026-01-08/
LOCATION:MT Haberdashery\, 2305 Forsythe Ave\, Monroe\, LA\, 71201\, United States
CATEGORIES:Classes and Workshops
ATTACH;FMTTYPE=image/jpeg:https://materialthingsshop.com/wp-content/uploads/2025/05/C249941C-6CEB-487F-85B2-22960C47D9C2.jpg
END:VEVENT
BEGIN:VEVENT
DTSTART;TZID=America/Chicago:20260114T110000
DTEND;TZID=America/Chicago:20260114T160000
DTSTAMP:20260424T131637
CREATED:20240702T165948Z
LAST-MODIFIED:20240702T165948Z
UID:26257-1768388400-1768406400@materialthingsshop.com
SUMMARY:Free Sew Day
DESCRIPTION:Join us every Wednesday for a free sew day. This is a great chance to get lots of projects finished or maybe start a new one ;-). Join us from 11-4. it doesn’t matter if you are machine or hand sewing\, just bring what you need\, bring a lunch and let’s get some things finished! *NO Charge* \n 
URL:https://materialthingsshop.com/event/workday-wednesday-2-2024-09-18/2026-01-14/
LOCATION:MT Haberdashery\, 2305 Forsythe Ave\, Monroe\, LA\, 71201\, United States
CATEGORIES:Classes and Workshops
ATTACH;FMTTYPE=image/jpeg:https://materialthingsshop.com/wp-content/uploads/2024/07/Image-1-2.jpg
END:VEVENT
BEGIN:VEVENT
DTSTART;TZID=America/Chicago:20260115T130000
DTEND;TZID=America/Chicago:20260115T160000
DTSTAMP:20260424T131637
CREATED:20250526T212739Z
LAST-MODIFIED:20260104T014752Z
UID:26156-1768482000-1768492800@materialthingsshop.com
SUMMARY:Needlepoint Sit & Stitch
DESCRIPTION:This is a free sew day open to everyone that is a beginner or has years of experience in needlepoint…just come and go at your own pace\, bring your project or purchase a new one with no worries about signing up ahead of time!
URL:https://materialthingsshop.com/event/needlepoint-sit-stitch/2026-01-15/
LOCATION:MT Haberdashery\, 2305 Forsythe Ave\, Monroe\, LA\, 71201\, United States
CATEGORIES:Classes and Workshops
ATTACH;FMTTYPE=image/jpeg:https://materialthingsshop.com/wp-content/uploads/2025/05/C249941C-6CEB-487F-85B2-22960C47D9C2.jpg
END:VEVENT
BEGIN:VEVENT
DTSTART;TZID=America/Chicago:20260121T110000
DTEND;TZID=America/Chicago:20260121T160000
DTSTAMP:20260424T131637
CREATED:20240702T165948Z
LAST-MODIFIED:20240702T165948Z
UID:26258-1768993200-1769011200@materialthingsshop.com
SUMMARY:Free Sew Day
DESCRIPTION:Join us every Wednesday for a free sew day. This is a great chance to get lots of projects finished or maybe start a new one ;-). Join us from 11-4. it doesn’t matter if you are machine or hand sewing\, just bring what you need\, bring a lunch and let’s get some things finished! *NO Charge* \n 
URL:https://materialthingsshop.com/event/workday-wednesday-2-2024-09-18/2026-01-21/
LOCATION:MT Haberdashery\, 2305 Forsythe Ave\, Monroe\, LA\, 71201\, United States
CATEGORIES:Classes and Workshops
ATTACH;FMTTYPE=image/jpeg:https://materialthingsshop.com/wp-content/uploads/2024/07/Image-1-2.jpg
END:VEVENT
BEGIN:VEVENT
DTSTART;TZID=America/Chicago:20260122T130000
DTEND;TZID=America/Chicago:20260122T160000
DTSTAMP:20260424T131637
CREATED:20250526T212739Z
LAST-MODIFIED:20260104T014753Z
UID:26157-1769086800-1769097600@materialthingsshop.com
SUMMARY:Needlepoint Sit & Stitch
DESCRIPTION:This is a free sew day open to everyone that is a beginner or has years of experience in needlepoint…just come and go at your own pace\, bring your project or purchase a new one with no worries about signing up ahead of time!
URL:https://materialthingsshop.com/event/needlepoint-sit-stitch/2026-01-22/
LOCATION:MT Haberdashery\, 2305 Forsythe Ave\, Monroe\, LA\, 71201\, United States
CATEGORIES:Classes and Workshops
ATTACH;FMTTYPE=image/jpeg:https://materialthingsshop.com/wp-content/uploads/2025/05/C249941C-6CEB-487F-85B2-22960C47D9C2.jpg
END:VEVENT
BEGIN:VEVENT
DTSTART;TZID=America/Chicago:20260128T110000
DTEND;TZID=America/Chicago:20260128T160000
DTSTAMP:20260424T131637
CREATED:20240702T165948Z
LAST-MODIFIED:20240702T165948Z
UID:26259-1769598000-1769616000@materialthingsshop.com
SUMMARY:Free Sew Day
DESCRIPTION:Join us every Wednesday for a free sew day. This is a great chance to get lots of projects finished or maybe start a new one ;-). Join us from 11-4. it doesn’t matter if you are machine or hand sewing\, just bring what you need\, bring a lunch and let’s get some things finished! *NO Charge* \n 
URL:https://materialthingsshop.com/event/workday-wednesday-2-2024-09-18/2026-01-28/
LOCATION:MT Haberdashery\, 2305 Forsythe Ave\, Monroe\, LA\, 71201\, United States
CATEGORIES:Classes and Workshops
ATTACH;FMTTYPE=image/jpeg:https://materialthingsshop.com/wp-content/uploads/2024/07/Image-1-2.jpg
END:VEVENT
BEGIN:VEVENT
DTSTART;TZID=America/Chicago:20260129T130000
DTEND;TZID=America/Chicago:20260129T160000
DTSTAMP:20260424T131637
CREATED:20250526T212739Z
LAST-MODIFIED:20260104T014753Z
UID:26158-1769691600-1769702400@materialthingsshop.com
SUMMARY:Needlepoint Sit & Stitch
DESCRIPTION:This is a free sew day open to everyone that is a beginner or has years of experience in needlepoint…just come and go at your own pace\, bring your project or purchase a new one with no worries about signing up ahead of time!
URL:https://materialthingsshop.com/event/needlepoint-sit-stitch/2026-01-29/
LOCATION:MT Haberdashery\, 2305 Forsythe Ave\, Monroe\, LA\, 71201\, United States
CATEGORIES:Classes and Workshops
ATTACH;FMTTYPE=image/jpeg:https://materialthingsshop.com/wp-content/uploads/2025/05/C249941C-6CEB-487F-85B2-22960C47D9C2.jpg
END:VEVENT
END:VCALENDAR