BEGIN:VCALENDAR
VERSION:2.0
PRODID:-//Material Things - ECPv6.15.20//NONSGML v1.0//EN
CALSCALE:GREGORIAN
METHOD:PUBLISH
X-WR-CALNAME:Material Things
X-ORIGINAL-URL:https://materialthingsshop.com
X-WR-CALDESC:Events for Material Things
REFRESH-INTERVAL;VALUE=DURATION:PT1H
X-Robots-Tag:noindex
X-PUBLISHED-TTL:PT1H
BEGIN:VTIMEZONE
TZID:America/Chicago
BEGIN:DAYLIGHT
TZOFFSETFROM:-0600
TZOFFSETTO:-0500
TZNAME:CDT
DTSTART:20230312T080000
END:DAYLIGHT
BEGIN:STANDARD
TZOFFSETFROM:-0500
TZOFFSETTO:-0600
TZNAME:CST
DTSTART:20231105T070000
END:STANDARD
BEGIN:DAYLIGHT
TZOFFSETFROM:-0600
TZOFFSETTO:-0500
TZNAME:CDT
DTSTART:20240310T080000
END:DAYLIGHT
BEGIN:STANDARD
TZOFFSETFROM:-0500
TZOFFSETTO:-0600
TZNAME:CST
DTSTART:20241103T070000
END:STANDARD
BEGIN:DAYLIGHT
TZOFFSETFROM:-0600
TZOFFSETTO:-0500
TZNAME:CDT
DTSTART:20250309T080000
END:DAYLIGHT
BEGIN:STANDARD
TZOFFSETFROM:-0500
TZOFFSETTO:-0600
TZNAME:CST
DTSTART:20251102T070000
END:STANDARD
BEGIN:DAYLIGHT
TZOFFSETFROM:-0600
TZOFFSETTO:-0500
TZNAME:CDT
DTSTART:20260308T080000
END:DAYLIGHT
BEGIN:STANDARD
TZOFFSETFROM:-0500
TZOFFSETTO:-0600
TZNAME:CST
DTSTART:20261101T070000
END:STANDARD
BEGIN:DAYLIGHT
TZOFFSETFROM:-0600
TZOFFSETTO:-0500
TZNAME:CDT
DTSTART:20270314T080000
END:DAYLIGHT
BEGIN:STANDARD
TZOFFSETFROM:-0500
TZOFFSETTO:-0600
TZNAME:CST
DTSTART:20271107T070000
END:STANDARD
END:VTIMEZONE
BEGIN:VEVENT
DTSTART;TZID=America/Chicago:20260416T130000
DTEND;TZID=America/Chicago:20260416T160000
DTSTAMP:20260422T105908
CREATED:20250526T212739Z
LAST-MODIFIED:20260104T014806Z
UID:26169-1776344400-1776355200@materialthingsshop.com
SUMMARY:Needlepoint Sit & Stitch
DESCRIPTION:This is a free sew day open to everyone that is a beginner or has years of experience in needlepoint…just come and go at your own pace\, bring your project or purchase a new one with no worries about signing up ahead of time!
URL:https://materialthingsshop.com/event/needlepoint-sit-stitch/2026-04-16/
LOCATION:MT Haberdashery\, 2305 Forsythe Ave\, Monroe\, LA\, 71201\, United States
CATEGORIES:Classes and Workshops
ATTACH;FMTTYPE=image/jpeg:https://materialthingsshop.com/wp-content/uploads/2025/05/C249941C-6CEB-487F-85B2-22960C47D9C2.jpg
END:VEVENT
BEGIN:VEVENT
DTSTART;TZID=America/Chicago:20260409T130000
DTEND;TZID=America/Chicago:20260409T160000
DTSTAMP:20260422T105908
CREATED:20250526T212739Z
LAST-MODIFIED:20260104T014806Z
UID:26168-1775739600-1775750400@materialthingsshop.com
SUMMARY:Needlepoint Sit & Stitch
DESCRIPTION:This is a free sew day open to everyone that is a beginner or has years of experience in needlepoint…just come and go at your own pace\, bring your project or purchase a new one with no worries about signing up ahead of time!
URL:https://materialthingsshop.com/event/needlepoint-sit-stitch/2026-04-09/
LOCATION:MT Haberdashery\, 2305 Forsythe Ave\, Monroe\, LA\, 71201\, United States
CATEGORIES:Classes and Workshops
ATTACH;FMTTYPE=image/jpeg:https://materialthingsshop.com/wp-content/uploads/2025/05/C249941C-6CEB-487F-85B2-22960C47D9C2.jpg
END:VEVENT
BEGIN:VEVENT
DTSTART;TZID=America/Chicago:20260402T130000
DTEND;TZID=America/Chicago:20260402T160000
DTSTAMP:20260422T105908
CREATED:20250526T212739Z
LAST-MODIFIED:20260104T014806Z
UID:26167-1775134800-1775145600@materialthingsshop.com
SUMMARY:Needlepoint Sit & Stitch
DESCRIPTION:This is a free sew day open to everyone that is a beginner or has years of experience in needlepoint…just come and go at your own pace\, bring your project or purchase a new one with no worries about signing up ahead of time!
URL:https://materialthingsshop.com/event/needlepoint-sit-stitch/2026-04-02/
LOCATION:MT Haberdashery\, 2305 Forsythe Ave\, Monroe\, LA\, 71201\, United States
CATEGORIES:Classes and Workshops
ATTACH;FMTTYPE=image/jpeg:https://materialthingsshop.com/wp-content/uploads/2025/05/C249941C-6CEB-487F-85B2-22960C47D9C2.jpg
END:VEVENT
BEGIN:VEVENT
DTSTART;TZID=America/Chicago:20260326T130000
DTEND;TZID=America/Chicago:20260326T160000
DTSTAMP:20260422T105908
CREATED:20250526T212739Z
LAST-MODIFIED:20260104T014805Z
UID:26166-1774530000-1774540800@materialthingsshop.com
SUMMARY:Needlepoint Sit & Stitch
DESCRIPTION:This is a free sew day open to everyone that is a beginner or has years of experience in needlepoint…just come and go at your own pace\, bring your project or purchase a new one with no worries about signing up ahead of time!
URL:https://materialthingsshop.com/event/needlepoint-sit-stitch/2026-03-26/
LOCATION:MT Haberdashery\, 2305 Forsythe Ave\, Monroe\, LA\, 71201\, United States
CATEGORIES:Classes and Workshops
ATTACH;FMTTYPE=image/jpeg:https://materialthingsshop.com/wp-content/uploads/2025/05/C249941C-6CEB-487F-85B2-22960C47D9C2.jpg
END:VEVENT
BEGIN:VEVENT
DTSTART;TZID=America/Chicago:20260319T130000
DTEND;TZID=America/Chicago:20260319T160000
DTSTAMP:20260422T105908
CREATED:20250526T212739Z
LAST-MODIFIED:20260104T014756Z
UID:26165-1773925200-1773936000@materialthingsshop.com
SUMMARY:Needlepoint Sit & Stitch
DESCRIPTION:This is a free sew day open to everyone that is a beginner or has years of experience in needlepoint…just come and go at your own pace\, bring your project or purchase a new one with no worries about signing up ahead of time!
URL:https://materialthingsshop.com/event/needlepoint-sit-stitch/2026-03-19/
LOCATION:MT Haberdashery\, 2305 Forsythe Ave\, Monroe\, LA\, 71201\, United States
CATEGORIES:Classes and Workshops
ATTACH;FMTTYPE=image/jpeg:https://materialthingsshop.com/wp-content/uploads/2025/05/C249941C-6CEB-487F-85B2-22960C47D9C2.jpg
END:VEVENT
BEGIN:VEVENT
DTSTART;TZID=America/Chicago:20260312T130000
DTEND;TZID=America/Chicago:20260312T160000
DTSTAMP:20260422T105908
CREATED:20250526T212739Z
LAST-MODIFIED:20260104T014756Z
UID:26164-1773320400-1773331200@materialthingsshop.com
SUMMARY:Needlepoint Sit & Stitch
DESCRIPTION:This is a free sew day open to everyone that is a beginner or has years of experience in needlepoint…just come and go at your own pace\, bring your project or purchase a new one with no worries about signing up ahead of time!
URL:https://materialthingsshop.com/event/needlepoint-sit-stitch/2026-03-12/
LOCATION:MT Haberdashery\, 2305 Forsythe Ave\, Monroe\, LA\, 71201\, United States
CATEGORIES:Classes and Workshops
ATTACH;FMTTYPE=image/jpeg:https://materialthingsshop.com/wp-content/uploads/2025/05/C249941C-6CEB-487F-85B2-22960C47D9C2.jpg
END:VEVENT
BEGIN:VEVENT
DTSTART;TZID=America/Chicago:20260305T130000
DTEND;TZID=America/Chicago:20260305T160000
DTSTAMP:20260422T105908
CREATED:20250526T212739Z
LAST-MODIFIED:20260104T014755Z
UID:26163-1772715600-1772726400@materialthingsshop.com
SUMMARY:Needlepoint Sit & Stitch
DESCRIPTION:This is a free sew day open to everyone that is a beginner or has years of experience in needlepoint…just come and go at your own pace\, bring your project or purchase a new one with no worries about signing up ahead of time!
URL:https://materialthingsshop.com/event/needlepoint-sit-stitch/2026-03-05/
LOCATION:MT Haberdashery\, 2305 Forsythe Ave\, Monroe\, LA\, 71201\, United States
CATEGORIES:Classes and Workshops
ATTACH;FMTTYPE=image/jpeg:https://materialthingsshop.com/wp-content/uploads/2025/05/C249941C-6CEB-487F-85B2-22960C47D9C2.jpg
END:VEVENT
BEGIN:VEVENT
DTSTART;TZID=America/Chicago:20260226T130000
DTEND;TZID=America/Chicago:20260226T160000
DTSTAMP:20260422T105908
CREATED:20250526T212739Z
LAST-MODIFIED:20260104T014755Z
UID:26162-1772110800-1772121600@materialthingsshop.com
SUMMARY:Needlepoint Sit & Stitch
DESCRIPTION:This is a free sew day open to everyone that is a beginner or has years of experience in needlepoint…just come and go at your own pace\, bring your project or purchase a new one with no worries about signing up ahead of time!
URL:https://materialthingsshop.com/event/needlepoint-sit-stitch/2026-02-26/
LOCATION:MT Haberdashery\, 2305 Forsythe Ave\, Monroe\, LA\, 71201\, United States
CATEGORIES:Classes and Workshops
ATTACH;FMTTYPE=image/jpeg:https://materialthingsshop.com/wp-content/uploads/2025/05/C249941C-6CEB-487F-85B2-22960C47D9C2.jpg
END:VEVENT
BEGIN:VEVENT
DTSTART;TZID=America/Chicago:20260219T130000
DTEND;TZID=America/Chicago:20260219T160000
DTSTAMP:20260422T105908
CREATED:20250526T212739Z
LAST-MODIFIED:20260104T014754Z
UID:26161-1771506000-1771516800@materialthingsshop.com
SUMMARY:Needlepoint Sit & Stitch
DESCRIPTION:This is a free sew day open to everyone that is a beginner or has years of experience in needlepoint…just come and go at your own pace\, bring your project or purchase a new one with no worries about signing up ahead of time!
URL:https://materialthingsshop.com/event/needlepoint-sit-stitch/2026-02-19/
LOCATION:MT Haberdashery\, 2305 Forsythe Ave\, Monroe\, LA\, 71201\, United States
CATEGORIES:Classes and Workshops
ATTACH;FMTTYPE=image/jpeg:https://materialthingsshop.com/wp-content/uploads/2025/05/C249941C-6CEB-487F-85B2-22960C47D9C2.jpg
END:VEVENT
BEGIN:VEVENT
DTSTART;TZID=America/Chicago:20260213T130000
DTEND;TZID=America/Chicago:20260213T160000
DTSTAMP:20260422T105908
CREATED:20260202T185031Z
LAST-MODIFIED:20260202T185031Z
UID:26400-1770987600-1770998400@materialthingsshop.com
SUMMARY:Ruffled Collar
DESCRIPTION:I know you have been seeing the ruffled collars that have gone viral on social media…well\, of course our own Robin figured it out and got all of the dimensions and wrote a pattern for it! You will need normal sewing and cutting supplies including your sewing machine and a bodkin will be helpful as well for threading the tie/ribbon through the casing. Come in early to pick your fabric\, we used Liberty of London fabric on mine and it turned out wonderful! Class fee $30 \n 
URL:https://materialthingsshop.com/event/ruffled-collar/
LOCATION:MT Haberdashery\, 2305 Forsythe Ave\, Monroe\, LA\, 71201\, United States
CATEGORIES:Classes and Workshops,PopUp
ATTACH;FMTTYPE=image/jpeg:https://materialthingsshop.com/wp-content/uploads/2026/02/IMG_8792-rotated.jpeg
END:VEVENT
BEGIN:VEVENT
DTSTART;TZID=America/Chicago:20260212T130000
DTEND;TZID=America/Chicago:20260212T160000
DTSTAMP:20260422T105908
CREATED:20250526T212739Z
LAST-MODIFIED:20260104T014754Z
UID:26160-1770901200-1770912000@materialthingsshop.com
SUMMARY:Needlepoint Sit & Stitch
DESCRIPTION:This is a free sew day open to everyone that is a beginner or has years of experience in needlepoint…just come and go at your own pace\, bring your project or purchase a new one with no worries about signing up ahead of time!
URL:https://materialthingsshop.com/event/needlepoint-sit-stitch/2026-02-12/
LOCATION:MT Haberdashery\, 2305 Forsythe Ave\, Monroe\, LA\, 71201\, United States
CATEGORIES:Classes and Workshops
ATTACH;FMTTYPE=image/jpeg:https://materialthingsshop.com/wp-content/uploads/2025/05/C249941C-6CEB-487F-85B2-22960C47D9C2.jpg
END:VEVENT
BEGIN:VEVENT
DTSTART;TZID=America/Chicago:20260205T130000
DTEND;TZID=America/Chicago:20260205T160000
DTSTAMP:20260422T105908
CREATED:20250526T212739Z
LAST-MODIFIED:20260104T014754Z
UID:26159-1770296400-1770307200@materialthingsshop.com
SUMMARY:Needlepoint Sit & Stitch
DESCRIPTION:This is a free sew day open to everyone that is a beginner or has years of experience in needlepoint…just come and go at your own pace\, bring your project or purchase a new one with no worries about signing up ahead of time!
URL:https://materialthingsshop.com/event/needlepoint-sit-stitch/2026-02-05/
LOCATION:MT Haberdashery\, 2305 Forsythe Ave\, Monroe\, LA\, 71201\, United States
CATEGORIES:Classes and Workshops
ATTACH;FMTTYPE=image/jpeg:https://materialthingsshop.com/wp-content/uploads/2025/05/C249941C-6CEB-487F-85B2-22960C47D9C2.jpg
END:VEVENT
BEGIN:VEVENT
DTSTART;TZID=America/Chicago:20260129T130000
DTEND;TZID=America/Chicago:20260129T160000
DTSTAMP:20260422T105908
CREATED:20250526T212739Z
LAST-MODIFIED:20260104T014753Z
UID:26158-1769691600-1769702400@materialthingsshop.com
SUMMARY:Needlepoint Sit & Stitch
DESCRIPTION:This is a free sew day open to everyone that is a beginner or has years of experience in needlepoint…just come and go at your own pace\, bring your project or purchase a new one with no worries about signing up ahead of time!
URL:https://materialthingsshop.com/event/needlepoint-sit-stitch/2026-01-29/
LOCATION:MT Haberdashery\, 2305 Forsythe Ave\, Monroe\, LA\, 71201\, United States
CATEGORIES:Classes and Workshops
ATTACH;FMTTYPE=image/jpeg:https://materialthingsshop.com/wp-content/uploads/2025/05/C249941C-6CEB-487F-85B2-22960C47D9C2.jpg
END:VEVENT
BEGIN:VEVENT
DTSTART;TZID=America/Chicago:20260122T130000
DTEND;TZID=America/Chicago:20260122T160000
DTSTAMP:20260422T105908
CREATED:20250526T212739Z
LAST-MODIFIED:20260104T014753Z
UID:26157-1769086800-1769097600@materialthingsshop.com
SUMMARY:Needlepoint Sit & Stitch
DESCRIPTION:This is a free sew day open to everyone that is a beginner or has years of experience in needlepoint…just come and go at your own pace\, bring your project or purchase a new one with no worries about signing up ahead of time!
URL:https://materialthingsshop.com/event/needlepoint-sit-stitch/2026-01-22/
LOCATION:MT Haberdashery\, 2305 Forsythe Ave\, Monroe\, LA\, 71201\, United States
CATEGORIES:Classes and Workshops
ATTACH;FMTTYPE=image/jpeg:https://materialthingsshop.com/wp-content/uploads/2025/05/C249941C-6CEB-487F-85B2-22960C47D9C2.jpg
END:VEVENT
BEGIN:VEVENT
DTSTART;TZID=America/Chicago:20260115T130000
DTEND;TZID=America/Chicago:20260115T160000
DTSTAMP:20260422T105908
CREATED:20250526T212739Z
LAST-MODIFIED:20260104T014752Z
UID:26156-1768482000-1768492800@materialthingsshop.com
SUMMARY:Needlepoint Sit & Stitch
DESCRIPTION:This is a free sew day open to everyone that is a beginner or has years of experience in needlepoint…just come and go at your own pace\, bring your project or purchase a new one with no worries about signing up ahead of time!
URL:https://materialthingsshop.com/event/needlepoint-sit-stitch/2026-01-15/
LOCATION:MT Haberdashery\, 2305 Forsythe Ave\, Monroe\, LA\, 71201\, United States
CATEGORIES:Classes and Workshops
ATTACH;FMTTYPE=image/jpeg:https://materialthingsshop.com/wp-content/uploads/2025/05/C249941C-6CEB-487F-85B2-22960C47D9C2.jpg
END:VEVENT
BEGIN:VEVENT
DTSTART;TZID=America/Chicago:20260108T130000
DTEND;TZID=America/Chicago:20260108T160000
DTSTAMP:20260422T105908
CREATED:20250526T212739Z
LAST-MODIFIED:20260104T014752Z
UID:25363-1767877200-1767888000@materialthingsshop.com
SUMMARY:Needlepoint Sit & Stitch
DESCRIPTION:This is a free sew day open to everyone that is a beginner or has years of experience in needlepoint…just come and go at your own pace\, bring your project or purchase a new one with no worries about signing up ahead of time!
URL:https://materialthingsshop.com/event/needlepoint-sit-stitch/2026-01-08/
LOCATION:MT Haberdashery\, 2305 Forsythe Ave\, Monroe\, LA\, 71201\, United States
CATEGORIES:Classes and Workshops
ATTACH;FMTTYPE=image/jpeg:https://materialthingsshop.com/wp-content/uploads/2025/05/C249941C-6CEB-487F-85B2-22960C47D9C2.jpg
END:VEVENT
BEGIN:VEVENT
DTSTART;TZID=America/Chicago:20251114T110000
DTEND;TZID=America/Chicago:20251114T160000
DTSTAMP:20260422T105908
CREATED:20250701T165212Z
LAST-MODIFIED:20251105T201618Z
UID:25561-1763118000-1763136000@materialthingsshop.com
SUMMARY:Sunshine Sisters Tote
DESCRIPTION:This tote bag pattern has 3 different sizes available-the smallest one is perfect as a travel iron tote. A sewing machine and normal cutting and sewing supplies are needed for this class-quilting of your fabric is suggested prior to class. Class fee $35 Pattern $12
URL:https://materialthingsshop.com/event/sunshine-sisters-tote/
LOCATION:MT Haberdashery\, 2305 Forsythe Ave\, Monroe\, LA\, 71201\, United States
CATEGORIES:Classes and Workshops
ATTACH;FMTTYPE=image/jpeg:https://materialthingsshop.com/wp-content/uploads/2025/07/IMG_6647.jpg
END:VEVENT
BEGIN:VEVENT
DTSTART;TZID=America/Chicago:20250613T100000
DTEND;TZID=America/Chicago:20250613T160000
DTSTAMP:20260422T105908
CREATED:20250526T212506Z
LAST-MODIFIED:20250526T212506Z
UID:25399-1749808800-1749830400@materialthingsshop.com
SUMMARY:All the Things Tote Bag
DESCRIPTION:Join us to make this fun and useful tote bag…the pattern offers it in 3 sizes. All supplies and pattern are available in The Haberdashery. Sewing machine and normal cutting and sewing supplies are needed. Class fee $30 \n 
URL:https://materialthingsshop.com/event/all-the-things-tote-bag/
LOCATION:MT Haberdashery\, 2305 Forsythe Ave\, Monroe\, LA\, 71201\, United States
CATEGORIES:Classes and Workshops
ATTACH;FMTTYPE=image/jpeg:https://materialthingsshop.com/wp-content/uploads/2025/05/IMG_6394.jpg
END:VEVENT
BEGIN:VEVENT
DTSTART;TZID=America/Chicago:20240612T100000
DTEND;TZID=America/Chicago:20240612T170000
DTSTAMP:20260422T105908
CREATED:20240513T201015Z
LAST-MODIFIED:20240513T201015Z
UID:7532-1718186400-1718211600@materialthingsshop.com
SUMMARY:Husqvarna Viking Machine Embroidery Workshop Event
DESCRIPTION:Join us as we travel on the “Road to Marrakech” with our tour guide-National Teacher/Educator Jeanne Healey. We will be offering a 2 day class full of easy cathedral windows\, machine embroidery\, decorative stitches as well as quilting and thread velvet designs to make this beautiful pillow. So\, if you have already purchased a Husqvarna Viking embroidery/sewing machine then please join us or if you are looking to upgrade or buy a new embroidery machine\, we will have several of the new Designer Epic 3 machines in the store. Also\, Jeanne will be doing a short demo on the My Sewnet Program. You do not want to miss out on this fun and exciting event. Class fee is $30 (kit\, supplies and lunch included)-spaces limited-call or message me to reserve your spot!
URL:https://materialthingsshop.com/event/husqvarna-viking-machine-embroidery-workshop-event/2024-06-12/
LOCATION:MT Haberdashery\, 2305 Forsythe Ave\, Monroe\, LA\, 71201\, United States
CATEGORIES:Classes and Workshops
ATTACH;FMTTYPE=image/jpeg:https://materialthingsshop.com/wp-content/uploads/2024/05/Image-1-1.jpg
END:VEVENT
BEGIN:VEVENT
DTSTART;TZID=America/Chicago:20240611T100000
DTEND;TZID=America/Chicago:20240611T170000
DTSTAMP:20260422T105908
CREATED:20240513T201014Z
LAST-MODIFIED:20240513T201014Z
UID:7513-1718100000-1718125200@materialthingsshop.com
SUMMARY:Husqvarna Viking Machine Embroidery Workshop Event
DESCRIPTION:Join us as we travel on the “Road to Marrakech” with our tour guide-National Teacher/Educator Jeanne Healey. We will be offering a 2 day class full of easy cathedral windows\, machine embroidery\, decorative stitches as well as quilting and thread velvet designs to make this beautiful pillow. So\, if you have already purchased a Husqvarna Viking embroidery/sewing machine then please join us or if you are looking to upgrade or buy a new embroidery machine\, we will have several of the new Designer Epic 3 machines in the store. Also\, Jeanne will be doing a short demo on the My Sewnet Program. You do not want to miss out on this fun and exciting event. Class fee is $30 (kit\, supplies and lunch included)-spaces limited-call or message me to reserve your spot!
URL:https://materialthingsshop.com/event/husqvarna-viking-machine-embroidery-workshop-event/2024-06-11/
LOCATION:MT Haberdashery\, 2305 Forsythe Ave\, Monroe\, LA\, 71201\, United States
CATEGORIES:Classes and Workshops
ATTACH;FMTTYPE=image/jpeg:https://materialthingsshop.com/wp-content/uploads/2024/05/Image-1-1.jpg
END:VEVENT
END:VCALENDAR