BEGIN:VCALENDAR
VERSION:2.0
PRODID:-//Material Things - ECPv6.15.20//NONSGML v1.0//EN
CALSCALE:GREGORIAN
METHOD:PUBLISH
X-WR-CALNAME:Material Things
X-ORIGINAL-URL:https://materialthingsshop.com
X-WR-CALDESC:Events for Material Things
REFRESH-INTERVAL;VALUE=DURATION:PT1H
X-Robots-Tag:noindex
X-PUBLISHED-TTL:PT1H
BEGIN:VTIMEZONE
TZID:America/Chicago
BEGIN:DAYLIGHT
TZOFFSETFROM:-0600
TZOFFSETTO:-0500
TZNAME:CDT
DTSTART:20250309T080000
END:DAYLIGHT
BEGIN:STANDARD
TZOFFSETFROM:-0500
TZOFFSETTO:-0600
TZNAME:CST
DTSTART:20251102T070000
END:STANDARD
BEGIN:DAYLIGHT
TZOFFSETFROM:-0600
TZOFFSETTO:-0500
TZNAME:CDT
DTSTART:20260308T080000
END:DAYLIGHT
BEGIN:STANDARD
TZOFFSETFROM:-0500
TZOFFSETTO:-0600
TZNAME:CST
DTSTART:20261101T070000
END:STANDARD
BEGIN:DAYLIGHT
TZOFFSETFROM:-0600
TZOFFSETTO:-0500
TZNAME:CDT
DTSTART:20270314T080000
END:DAYLIGHT
BEGIN:STANDARD
TZOFFSETFROM:-0500
TZOFFSETTO:-0600
TZNAME:CST
DTSTART:20271107T070000
END:STANDARD
END:VTIMEZONE
BEGIN:VEVENT
DTSTART;TZID=America/Chicago:20260425T100000
DTEND;TZID=America/Chicago:20260425T120000
DTSTAMP:20260420T053603
CREATED:20240402T222510Z
LAST-MODIFIED:20260405T150521Z
UID:7455-1777111200-1777118400@materialthingsshop.com
SUMMARY:Basic Needlepoint for Beginners
DESCRIPTION:If you have always wanted to learn the basics of needlepoint\, then you need to join us for this very informative class! You will learn the continental (tent) stitch and a fun fill in background stitch as you practice on a blank canvas! Class fee $45 (includes kit and class fee) \n  \nTHIS CLASS HAS ALREADY BEEN FILLED TO CAPACITY-STAY TUNED FOR ANOTHER DATE AND TIME FOR A SECOND CLASS!!!
URL:https://materialthingsshop.com/event/beginners-needlepoint/
LOCATION:MT Haberdashery\, 2305 Forsythe Ave\, Monroe\, LA\, 71201\, United States
CATEGORIES:Classes and Workshops
ATTACH;FMTTYPE=image/jpeg:https://materialthingsshop.com/wp-content/uploads/2024/04/IMG_9272.jpg
END:VEVENT
END:VCALENDAR