BEGIN:VCALENDAR
VERSION:2.0
PRODID:-//Material Things - ECPv6.15.20//NONSGML v1.0//EN
CALSCALE:GREGORIAN
METHOD:PUBLISH
X-WR-CALNAME:Material Things
X-ORIGINAL-URL:https://materialthingsshop.com
X-WR-CALDESC:Events for Material Things
REFRESH-INTERVAL;VALUE=DURATION:PT1H
X-Robots-Tag:noindex
X-PUBLISHED-TTL:PT1H
BEGIN:VTIMEZONE
TZID:America/Chicago
BEGIN:DAYLIGHT
TZOFFSETFROM:-0600
TZOFFSETTO:-0500
TZNAME:CDT
DTSTART:20250309T080000
END:DAYLIGHT
BEGIN:STANDARD
TZOFFSETFROM:-0500
TZOFFSETTO:-0600
TZNAME:CST
DTSTART:20251102T070000
END:STANDARD
BEGIN:DAYLIGHT
TZOFFSETFROM:-0600
TZOFFSETTO:-0500
TZNAME:CDT
DTSTART:20260308T080000
END:DAYLIGHT
BEGIN:STANDARD
TZOFFSETFROM:-0500
TZOFFSETTO:-0600
TZNAME:CST
DTSTART:20261101T070000
END:STANDARD
BEGIN:DAYLIGHT
TZOFFSETFROM:-0600
TZOFFSETTO:-0500
TZNAME:CDT
DTSTART:20270314T080000
END:DAYLIGHT
BEGIN:STANDARD
TZOFFSETFROM:-0500
TZOFFSETTO:-0600
TZNAME:CST
DTSTART:20271107T070000
END:STANDARD
END:VTIMEZONE
BEGIN:VEVENT
DTSTART;TZID=America/Chicago:20260423T130000
DTEND;TZID=America/Chicago:20260423T160000
DTSTAMP:20260420T135000
CREATED:20250526T212739Z
LAST-MODIFIED:20260104T014807Z
UID:26170-1776949200-1776960000@materialthingsshop.com
SUMMARY:Needlepoint Sit & Stitch
DESCRIPTION:This is a free sew day open to everyone that is a beginner or has years of experience in needlepoint…just come and go at your own pace\, bring your project or purchase a new one with no worries about signing up ahead of time!
URL:https://materialthingsshop.com/event/needlepoint-sit-stitch/2026-04-23/
LOCATION:MT Haberdashery\, 2305 Forsythe Ave\, Monroe\, LA\, 71201\, United States
CATEGORIES:Classes and Workshops
ATTACH;FMTTYPE=image/jpeg:https://materialthingsshop.com/wp-content/uploads/2025/05/C249941C-6CEB-487F-85B2-22960C47D9C2.jpg
END:VEVENT
BEGIN:VEVENT
DTSTART;TZID=America/Chicago:20260430T130000
DTEND;TZID=America/Chicago:20260430T160000
DTSTAMP:20260420T135000
CREATED:20250526T212739Z
LAST-MODIFIED:20260104T014808Z
UID:26171-1777554000-1777564800@materialthingsshop.com
SUMMARY:Needlepoint Sit & Stitch
DESCRIPTION:This is a free sew day open to everyone that is a beginner or has years of experience in needlepoint…just come and go at your own pace\, bring your project or purchase a new one with no worries about signing up ahead of time!
URL:https://materialthingsshop.com/event/needlepoint-sit-stitch/2026-04-30/
LOCATION:MT Haberdashery\, 2305 Forsythe Ave\, Monroe\, LA\, 71201\, United States
CATEGORIES:Classes and Workshops
ATTACH;FMTTYPE=image/jpeg:https://materialthingsshop.com/wp-content/uploads/2025/05/C249941C-6CEB-487F-85B2-22960C47D9C2.jpg
END:VEVENT
BEGIN:VEVENT
DTSTART;TZID=America/Chicago:20260507T130000
DTEND;TZID=America/Chicago:20260507T160000
DTSTAMP:20260420T135000
CREATED:20250526T212739Z
LAST-MODIFIED:20260104T014808Z
UID:26172-1778158800-1778169600@materialthingsshop.com
SUMMARY:Needlepoint Sit & Stitch
DESCRIPTION:This is a free sew day open to everyone that is a beginner or has years of experience in needlepoint…just come and go at your own pace\, bring your project or purchase a new one with no worries about signing up ahead of time!
URL:https://materialthingsshop.com/event/needlepoint-sit-stitch/2026-05-07/
LOCATION:MT Haberdashery\, 2305 Forsythe Ave\, Monroe\, LA\, 71201\, United States
CATEGORIES:Classes and Workshops
ATTACH;FMTTYPE=image/jpeg:https://materialthingsshop.com/wp-content/uploads/2025/05/C249941C-6CEB-487F-85B2-22960C47D9C2.jpg
END:VEVENT
BEGIN:VEVENT
DTSTART;TZID=America/Chicago:20260514T130000
DTEND;TZID=America/Chicago:20260514T160000
DTSTAMP:20260420T135000
CREATED:20250526T212739Z
LAST-MODIFIED:20260104T014809Z
UID:26173-1778763600-1778774400@materialthingsshop.com
SUMMARY:Needlepoint Sit & Stitch
DESCRIPTION:This is a free sew day open to everyone that is a beginner or has years of experience in needlepoint…just come and go at your own pace\, bring your project or purchase a new one with no worries about signing up ahead of time!
URL:https://materialthingsshop.com/event/needlepoint-sit-stitch/2026-05-14/
LOCATION:MT Haberdashery\, 2305 Forsythe Ave\, Monroe\, LA\, 71201\, United States
CATEGORIES:Classes and Workshops
ATTACH;FMTTYPE=image/jpeg:https://materialthingsshop.com/wp-content/uploads/2025/05/C249941C-6CEB-487F-85B2-22960C47D9C2.jpg
END:VEVENT
BEGIN:VEVENT
DTSTART;TZID=America/Chicago:20260521T130000
DTEND;TZID=America/Chicago:20260521T160000
DTSTAMP:20260420T135000
CREATED:20250526T212739Z
LAST-MODIFIED:20260104T014809Z
UID:26174-1779368400-1779379200@materialthingsshop.com
SUMMARY:Needlepoint Sit & Stitch
DESCRIPTION:This is a free sew day open to everyone that is a beginner or has years of experience in needlepoint…just come and go at your own pace\, bring your project or purchase a new one with no worries about signing up ahead of time!
URL:https://materialthingsshop.com/event/needlepoint-sit-stitch/2026-05-21/
LOCATION:MT Haberdashery\, 2305 Forsythe Ave\, Monroe\, LA\, 71201\, United States
CATEGORIES:Classes and Workshops
ATTACH;FMTTYPE=image/jpeg:https://materialthingsshop.com/wp-content/uploads/2025/05/C249941C-6CEB-487F-85B2-22960C47D9C2.jpg
END:VEVENT
BEGIN:VEVENT
DTSTART;TZID=America/Chicago:20260528T130000
DTEND;TZID=America/Chicago:20260528T160000
DTSTAMP:20260420T135000
CREATED:20250526T212739Z
LAST-MODIFIED:20260104T014810Z
UID:26175-1779973200-1779984000@materialthingsshop.com
SUMMARY:Needlepoint Sit & Stitch
DESCRIPTION:This is a free sew day open to everyone that is a beginner or has years of experience in needlepoint…just come and go at your own pace\, bring your project or purchase a new one with no worries about signing up ahead of time!
URL:https://materialthingsshop.com/event/needlepoint-sit-stitch/2026-05-28/
LOCATION:MT Haberdashery\, 2305 Forsythe Ave\, Monroe\, LA\, 71201\, United States
CATEGORIES:Classes and Workshops
ATTACH;FMTTYPE=image/jpeg:https://materialthingsshop.com/wp-content/uploads/2025/05/C249941C-6CEB-487F-85B2-22960C47D9C2.jpg
END:VEVENT
BEGIN:VEVENT
DTSTART;TZID=America/Chicago:20260604T130000
DTEND;TZID=America/Chicago:20260604T160000
DTSTAMP:20260420T135000
CREATED:20250526T212739Z
LAST-MODIFIED:20260104T020830Z
UID:26176-1780578000-1780588800@materialthingsshop.com
SUMMARY:Needlepoint Sit & Stitch
DESCRIPTION:This is a free sew day open to everyone that is a beginner or has years of experience in needlepoint…just come and go at your own pace\, bring your project or purchase a new one with no worries about signing up ahead of time!
URL:https://materialthingsshop.com/event/needlepoint-sit-stitch/2026-06-04/
LOCATION:MT Haberdashery\, 2305 Forsythe Ave\, Monroe\, LA\, 71201\, United States
CATEGORIES:Classes and Workshops
ATTACH;FMTTYPE=image/jpeg:https://materialthingsshop.com/wp-content/uploads/2025/05/C249941C-6CEB-487F-85B2-22960C47D9C2.jpg
END:VEVENT
BEGIN:VEVENT
DTSTART;TZID=America/Chicago:20260611T130000
DTEND;TZID=America/Chicago:20260611T160000
DTSTAMP:20260420T135000
CREATED:20250526T212739Z
LAST-MODIFIED:20260104T020831Z
UID:26177-1781182800-1781193600@materialthingsshop.com
SUMMARY:Needlepoint Sit & Stitch
DESCRIPTION:This is a free sew day open to everyone that is a beginner or has years of experience in needlepoint…just come and go at your own pace\, bring your project or purchase a new one with no worries about signing up ahead of time!
URL:https://materialthingsshop.com/event/needlepoint-sit-stitch/2026-06-11/
LOCATION:MT Haberdashery\, 2305 Forsythe Ave\, Monroe\, LA\, 71201\, United States
CATEGORIES:Classes and Workshops
ATTACH;FMTTYPE=image/jpeg:https://materialthingsshop.com/wp-content/uploads/2025/05/C249941C-6CEB-487F-85B2-22960C47D9C2.jpg
END:VEVENT
BEGIN:VEVENT
DTSTART;TZID=America/Chicago:20260618T130000
DTEND;TZID=America/Chicago:20260618T160000
DTSTAMP:20260420T135000
CREATED:20250526T212739Z
LAST-MODIFIED:20260104T020831Z
UID:26178-1781787600-1781798400@materialthingsshop.com
SUMMARY:Needlepoint Sit & Stitch
DESCRIPTION:This is a free sew day open to everyone that is a beginner or has years of experience in needlepoint…just come and go at your own pace\, bring your project or purchase a new one with no worries about signing up ahead of time!
URL:https://materialthingsshop.com/event/needlepoint-sit-stitch/2026-06-18/
LOCATION:MT Haberdashery\, 2305 Forsythe Ave\, Monroe\, LA\, 71201\, United States
CATEGORIES:Classes and Workshops
ATTACH;FMTTYPE=image/jpeg:https://materialthingsshop.com/wp-content/uploads/2025/05/C249941C-6CEB-487F-85B2-22960C47D9C2.jpg
END:VEVENT
BEGIN:VEVENT
DTSTART;TZID=America/Chicago:20260625T130000
DTEND;TZID=America/Chicago:20260625T160000
DTSTAMP:20260420T135000
CREATED:20250526T212739Z
LAST-MODIFIED:20260104T020832Z
UID:26179-1782392400-1782403200@materialthingsshop.com
SUMMARY:Needlepoint Sit & Stitch
DESCRIPTION:This is a free sew day open to everyone that is a beginner or has years of experience in needlepoint…just come and go at your own pace\, bring your project or purchase a new one with no worries about signing up ahead of time!
URL:https://materialthingsshop.com/event/needlepoint-sit-stitch/2026-06-25/
LOCATION:MT Haberdashery\, 2305 Forsythe Ave\, Monroe\, LA\, 71201\, United States
CATEGORIES:Classes and Workshops
ATTACH;FMTTYPE=image/jpeg:https://materialthingsshop.com/wp-content/uploads/2025/05/C249941C-6CEB-487F-85B2-22960C47D9C2.jpg
END:VEVENT
BEGIN:VEVENT
DTSTART;TZID=America/Chicago:20260702T130000
DTEND;TZID=America/Chicago:20260702T160000
DTSTAMP:20260420T135000
CREATED:20250526T212739Z
LAST-MODIFIED:20260104T020832Z
UID:26180-1782997200-1783008000@materialthingsshop.com
SUMMARY:Needlepoint Sit & Stitch
DESCRIPTION:This is a free sew day open to everyone that is a beginner or has years of experience in needlepoint…just come and go at your own pace\, bring your project or purchase a new one with no worries about signing up ahead of time!
URL:https://materialthingsshop.com/event/needlepoint-sit-stitch/2026-07-02/
LOCATION:MT Haberdashery\, 2305 Forsythe Ave\, Monroe\, LA\, 71201\, United States
CATEGORIES:Classes and Workshops
ATTACH;FMTTYPE=image/jpeg:https://materialthingsshop.com/wp-content/uploads/2025/05/C249941C-6CEB-487F-85B2-22960C47D9C2.jpg
END:VEVENT
BEGIN:VEVENT
DTSTART;TZID=America/Chicago:20260709T130000
DTEND;TZID=America/Chicago:20260709T160000
DTSTAMP:20260420T135000
CREATED:20250526T212739Z
LAST-MODIFIED:20260104T020833Z
UID:26181-1783602000-1783612800@materialthingsshop.com
SUMMARY:Needlepoint Sit & Stitch
DESCRIPTION:This is a free sew day open to everyone that is a beginner or has years of experience in needlepoint…just come and go at your own pace\, bring your project or purchase a new one with no worries about signing up ahead of time!
URL:https://materialthingsshop.com/event/needlepoint-sit-stitch/2026-07-09/
LOCATION:MT Haberdashery\, 2305 Forsythe Ave\, Monroe\, LA\, 71201\, United States
CATEGORIES:Classes and Workshops
ATTACH;FMTTYPE=image/jpeg:https://materialthingsshop.com/wp-content/uploads/2025/05/C249941C-6CEB-487F-85B2-22960C47D9C2.jpg
END:VEVENT
BEGIN:VEVENT
DTSTART;TZID=America/Chicago:20260716T130000
DTEND;TZID=America/Chicago:20260716T160000
DTSTAMP:20260420T135000
CREATED:20250526T212739Z
LAST-MODIFIED:20260104T020833Z
UID:26182-1784206800-1784217600@materialthingsshop.com
SUMMARY:Needlepoint Sit & Stitch
DESCRIPTION:This is a free sew day open to everyone that is a beginner or has years of experience in needlepoint…just come and go at your own pace\, bring your project or purchase a new one with no worries about signing up ahead of time!
URL:https://materialthingsshop.com/event/needlepoint-sit-stitch/2026-07-16/
LOCATION:MT Haberdashery\, 2305 Forsythe Ave\, Monroe\, LA\, 71201\, United States
CATEGORIES:Classes and Workshops
ATTACH;FMTTYPE=image/jpeg:https://materialthingsshop.com/wp-content/uploads/2025/05/C249941C-6CEB-487F-85B2-22960C47D9C2.jpg
END:VEVENT
BEGIN:VEVENT
DTSTART;TZID=America/Chicago:20260723T130000
DTEND;TZID=America/Chicago:20260723T160000
DTSTAMP:20260420T135000
CREATED:20250526T212739Z
LAST-MODIFIED:20260104T020834Z
UID:26183-1784811600-1784822400@materialthingsshop.com
SUMMARY:Needlepoint Sit & Stitch
DESCRIPTION:This is a free sew day open to everyone that is a beginner or has years of experience in needlepoint…just come and go at your own pace\, bring your project or purchase a new one with no worries about signing up ahead of time!
URL:https://materialthingsshop.com/event/needlepoint-sit-stitch/2026-07-23/
LOCATION:MT Haberdashery\, 2305 Forsythe Ave\, Monroe\, LA\, 71201\, United States
CATEGORIES:Classes and Workshops
ATTACH;FMTTYPE=image/jpeg:https://materialthingsshop.com/wp-content/uploads/2025/05/C249941C-6CEB-487F-85B2-22960C47D9C2.jpg
END:VEVENT
BEGIN:VEVENT
DTSTART;TZID=America/Chicago:20260730T130000
DTEND;TZID=America/Chicago:20260730T160000
DTSTAMP:20260420T135000
CREATED:20250526T212739Z
LAST-MODIFIED:20260104T020834Z
UID:26184-1785416400-1785427200@materialthingsshop.com
SUMMARY:Needlepoint Sit & Stitch
DESCRIPTION:This is a free sew day open to everyone that is a beginner or has years of experience in needlepoint…just come and go at your own pace\, bring your project or purchase a new one with no worries about signing up ahead of time!
URL:https://materialthingsshop.com/event/needlepoint-sit-stitch/2026-07-30/
LOCATION:MT Haberdashery\, 2305 Forsythe Ave\, Monroe\, LA\, 71201\, United States
CATEGORIES:Classes and Workshops
ATTACH;FMTTYPE=image/jpeg:https://materialthingsshop.com/wp-content/uploads/2025/05/C249941C-6CEB-487F-85B2-22960C47D9C2.jpg
END:VEVENT
BEGIN:VEVENT
DTSTART;TZID=America/Chicago:20260806T130000
DTEND;TZID=America/Chicago:20260806T160000
DTSTAMP:20260420T135000
CREATED:20250526T212739Z
LAST-MODIFIED:20260104T020834Z
UID:26185-1786021200-1786032000@materialthingsshop.com
SUMMARY:Needlepoint Sit & Stitch
DESCRIPTION:This is a free sew day open to everyone that is a beginner or has years of experience in needlepoint…just come and go at your own pace\, bring your project or purchase a new one with no worries about signing up ahead of time!
URL:https://materialthingsshop.com/event/needlepoint-sit-stitch/2026-08-06/
LOCATION:MT Haberdashery\, 2305 Forsythe Ave\, Monroe\, LA\, 71201\, United States
CATEGORIES:Classes and Workshops
ATTACH;FMTTYPE=image/jpeg:https://materialthingsshop.com/wp-content/uploads/2025/05/C249941C-6CEB-487F-85B2-22960C47D9C2.jpg
END:VEVENT
BEGIN:VEVENT
DTSTART;TZID=America/Chicago:20260813T130000
DTEND;TZID=America/Chicago:20260813T160000
DTSTAMP:20260420T135000
CREATED:20250526T212739Z
LAST-MODIFIED:20260104T020835Z
UID:26186-1786626000-1786636800@materialthingsshop.com
SUMMARY:Needlepoint Sit & Stitch
DESCRIPTION:This is a free sew day open to everyone that is a beginner or has years of experience in needlepoint…just come and go at your own pace\, bring your project or purchase a new one with no worries about signing up ahead of time!
URL:https://materialthingsshop.com/event/needlepoint-sit-stitch/2026-08-13/
LOCATION:MT Haberdashery\, 2305 Forsythe Ave\, Monroe\, LA\, 71201\, United States
CATEGORIES:Classes and Workshops
ATTACH;FMTTYPE=image/jpeg:https://materialthingsshop.com/wp-content/uploads/2025/05/C249941C-6CEB-487F-85B2-22960C47D9C2.jpg
END:VEVENT
BEGIN:VEVENT
DTSTART;TZID=America/Chicago:20260820T130000
DTEND;TZID=America/Chicago:20260820T160000
DTSTAMP:20260420T135000
CREATED:20250526T212739Z
LAST-MODIFIED:20260104T020835Z
UID:26187-1787230800-1787241600@materialthingsshop.com
SUMMARY:Needlepoint Sit & Stitch
DESCRIPTION:This is a free sew day open to everyone that is a beginner or has years of experience in needlepoint…just come and go at your own pace\, bring your project or purchase a new one with no worries about signing up ahead of time!
URL:https://materialthingsshop.com/event/needlepoint-sit-stitch/2026-08-20/
LOCATION:MT Haberdashery\, 2305 Forsythe Ave\, Monroe\, LA\, 71201\, United States
CATEGORIES:Classes and Workshops
ATTACH;FMTTYPE=image/jpeg:https://materialthingsshop.com/wp-content/uploads/2025/05/C249941C-6CEB-487F-85B2-22960C47D9C2.jpg
END:VEVENT
BEGIN:VEVENT
DTSTART;TZID=America/Chicago:20260827T130000
DTEND;TZID=America/Chicago:20260827T160000
DTSTAMP:20260420T135000
CREATED:20250526T212739Z
LAST-MODIFIED:20260104T020836Z
UID:26188-1787835600-1787846400@materialthingsshop.com
SUMMARY:Needlepoint Sit & Stitch
DESCRIPTION:This is a free sew day open to everyone that is a beginner or has years of experience in needlepoint…just come and go at your own pace\, bring your project or purchase a new one with no worries about signing up ahead of time!
URL:https://materialthingsshop.com/event/needlepoint-sit-stitch/2026-08-27/
LOCATION:MT Haberdashery\, 2305 Forsythe Ave\, Monroe\, LA\, 71201\, United States
CATEGORIES:Classes and Workshops
ATTACH;FMTTYPE=image/jpeg:https://materialthingsshop.com/wp-content/uploads/2025/05/C249941C-6CEB-487F-85B2-22960C47D9C2.jpg
END:VEVENT
BEGIN:VEVENT
DTSTART;TZID=America/Chicago:20260903T130000
DTEND;TZID=America/Chicago:20260903T160000
DTSTAMP:20260420T135000
CREATED:20250526T212739Z
LAST-MODIFIED:20260104T020836Z
UID:26189-1788440400-1788451200@materialthingsshop.com
SUMMARY:Needlepoint Sit & Stitch
DESCRIPTION:This is a free sew day open to everyone that is a beginner or has years of experience in needlepoint…just come and go at your own pace\, bring your project or purchase a new one with no worries about signing up ahead of time!
URL:https://materialthingsshop.com/event/needlepoint-sit-stitch/2026-09-03/
LOCATION:MT Haberdashery\, 2305 Forsythe Ave\, Monroe\, LA\, 71201\, United States
CATEGORIES:Classes and Workshops
ATTACH;FMTTYPE=image/jpeg:https://materialthingsshop.com/wp-content/uploads/2025/05/C249941C-6CEB-487F-85B2-22960C47D9C2.jpg
END:VEVENT
BEGIN:VEVENT
DTSTART;TZID=America/Chicago:20260910T130000
DTEND;TZID=America/Chicago:20260910T160000
DTSTAMP:20260420T135000
CREATED:20250526T212739Z
LAST-MODIFIED:20260104T020837Z
UID:26190-1789045200-1789056000@materialthingsshop.com
SUMMARY:Needlepoint Sit & Stitch
DESCRIPTION:This is a free sew day open to everyone that is a beginner or has years of experience in needlepoint…just come and go at your own pace\, bring your project or purchase a new one with no worries about signing up ahead of time!
URL:https://materialthingsshop.com/event/needlepoint-sit-stitch/2026-09-10/
LOCATION:MT Haberdashery\, 2305 Forsythe Ave\, Monroe\, LA\, 71201\, United States
CATEGORIES:Classes and Workshops
ATTACH;FMTTYPE=image/jpeg:https://materialthingsshop.com/wp-content/uploads/2025/05/C249941C-6CEB-487F-85B2-22960C47D9C2.jpg
END:VEVENT
BEGIN:VEVENT
DTSTART;TZID=America/Chicago:20260917T130000
DTEND;TZID=America/Chicago:20260917T160000
DTSTAMP:20260420T135000
CREATED:20250526T212739Z
LAST-MODIFIED:20260104T020837Z
UID:26191-1789650000-1789660800@materialthingsshop.com
SUMMARY:Needlepoint Sit & Stitch
DESCRIPTION:This is a free sew day open to everyone that is a beginner or has years of experience in needlepoint…just come and go at your own pace\, bring your project or purchase a new one with no worries about signing up ahead of time!
URL:https://materialthingsshop.com/event/needlepoint-sit-stitch/2026-09-17/
LOCATION:MT Haberdashery\, 2305 Forsythe Ave\, Monroe\, LA\, 71201\, United States
CATEGORIES:Classes and Workshops
ATTACH;FMTTYPE=image/jpeg:https://materialthingsshop.com/wp-content/uploads/2025/05/C249941C-6CEB-487F-85B2-22960C47D9C2.jpg
END:VEVENT
BEGIN:VEVENT
DTSTART;TZID=America/Chicago:20260924T130000
DTEND;TZID=America/Chicago:20260924T160000
DTSTAMP:20260420T135000
CREATED:20250526T212739Z
LAST-MODIFIED:20260104T020837Z
UID:26192-1790254800-1790265600@materialthingsshop.com
SUMMARY:Needlepoint Sit & Stitch
DESCRIPTION:This is a free sew day open to everyone that is a beginner or has years of experience in needlepoint…just come and go at your own pace\, bring your project or purchase a new one with no worries about signing up ahead of time!
URL:https://materialthingsshop.com/event/needlepoint-sit-stitch/2026-09-24/
LOCATION:MT Haberdashery\, 2305 Forsythe Ave\, Monroe\, LA\, 71201\, United States
CATEGORIES:Classes and Workshops
ATTACH;FMTTYPE=image/jpeg:https://materialthingsshop.com/wp-content/uploads/2025/05/C249941C-6CEB-487F-85B2-22960C47D9C2.jpg
END:VEVENT
BEGIN:VEVENT
DTSTART;TZID=America/Chicago:20261001T130000
DTEND;TZID=America/Chicago:20261001T160000
DTSTAMP:20260420T135000
CREATED:20250526T212739Z
LAST-MODIFIED:20260104T020838Z
UID:26193-1790859600-1790870400@materialthingsshop.com
SUMMARY:Needlepoint Sit & Stitch
DESCRIPTION:This is a free sew day open to everyone that is a beginner or has years of experience in needlepoint…just come and go at your own pace\, bring your project or purchase a new one with no worries about signing up ahead of time!
URL:https://materialthingsshop.com/event/needlepoint-sit-stitch/2026-10-01/
LOCATION:MT Haberdashery\, 2305 Forsythe Ave\, Monroe\, LA\, 71201\, United States
CATEGORIES:Classes and Workshops
ATTACH;FMTTYPE=image/jpeg:https://materialthingsshop.com/wp-content/uploads/2025/05/C249941C-6CEB-487F-85B2-22960C47D9C2.jpg
END:VEVENT
BEGIN:VEVENT
DTSTART;TZID=America/Chicago:20261008T130000
DTEND;TZID=America/Chicago:20261008T160000
DTSTAMP:20260420T135000
CREATED:20250526T212739Z
LAST-MODIFIED:20260104T020838Z
UID:26194-1791464400-1791475200@materialthingsshop.com
SUMMARY:Needlepoint Sit & Stitch
DESCRIPTION:This is a free sew day open to everyone that is a beginner or has years of experience in needlepoint…just come and go at your own pace\, bring your project or purchase a new one with no worries about signing up ahead of time!
URL:https://materialthingsshop.com/event/needlepoint-sit-stitch/2026-10-08/
LOCATION:MT Haberdashery\, 2305 Forsythe Ave\, Monroe\, LA\, 71201\, United States
CATEGORIES:Classes and Workshops
ATTACH;FMTTYPE=image/jpeg:https://materialthingsshop.com/wp-content/uploads/2025/05/C249941C-6CEB-487F-85B2-22960C47D9C2.jpg
END:VEVENT
BEGIN:VEVENT
DTSTART;TZID=America/Chicago:20261015T130000
DTEND;TZID=America/Chicago:20261015T160000
DTSTAMP:20260420T135000
CREATED:20250526T212739Z
LAST-MODIFIED:20260104T020839Z
UID:26195-1792069200-1792080000@materialthingsshop.com
SUMMARY:Needlepoint Sit & Stitch
DESCRIPTION:This is a free sew day open to everyone that is a beginner or has years of experience in needlepoint…just come and go at your own pace\, bring your project or purchase a new one with no worries about signing up ahead of time!
URL:https://materialthingsshop.com/event/needlepoint-sit-stitch/2026-10-15/
LOCATION:MT Haberdashery\, 2305 Forsythe Ave\, Monroe\, LA\, 71201\, United States
CATEGORIES:Classes and Workshops
ATTACH;FMTTYPE=image/jpeg:https://materialthingsshop.com/wp-content/uploads/2025/05/C249941C-6CEB-487F-85B2-22960C47D9C2.jpg
END:VEVENT
BEGIN:VEVENT
DTSTART;TZID=America/Chicago:20261022T130000
DTEND;TZID=America/Chicago:20261022T160000
DTSTAMP:20260420T135000
CREATED:20250526T212739Z
LAST-MODIFIED:20260104T020839Z
UID:26196-1792674000-1792684800@materialthingsshop.com
SUMMARY:Needlepoint Sit & Stitch
DESCRIPTION:This is a free sew day open to everyone that is a beginner or has years of experience in needlepoint…just come and go at your own pace\, bring your project or purchase a new one with no worries about signing up ahead of time!
URL:https://materialthingsshop.com/event/needlepoint-sit-stitch/2026-10-22/
LOCATION:MT Haberdashery\, 2305 Forsythe Ave\, Monroe\, LA\, 71201\, United States
CATEGORIES:Classes and Workshops
ATTACH;FMTTYPE=image/jpeg:https://materialthingsshop.com/wp-content/uploads/2025/05/C249941C-6CEB-487F-85B2-22960C47D9C2.jpg
END:VEVENT
BEGIN:VEVENT
DTSTART;TZID=America/Chicago:20261029T130000
DTEND;TZID=America/Chicago:20261029T160000
DTSTAMP:20260420T135000
CREATED:20250526T212739Z
LAST-MODIFIED:20260104T020839Z
UID:26197-1793278800-1793289600@materialthingsshop.com
SUMMARY:Needlepoint Sit & Stitch
DESCRIPTION:This is a free sew day open to everyone that is a beginner or has years of experience in needlepoint…just come and go at your own pace\, bring your project or purchase a new one with no worries about signing up ahead of time!
URL:https://materialthingsshop.com/event/needlepoint-sit-stitch/2026-10-29/
LOCATION:MT Haberdashery\, 2305 Forsythe Ave\, Monroe\, LA\, 71201\, United States
CATEGORIES:Classes and Workshops
ATTACH;FMTTYPE=image/jpeg:https://materialthingsshop.com/wp-content/uploads/2025/05/C249941C-6CEB-487F-85B2-22960C47D9C2.jpg
END:VEVENT
BEGIN:VEVENT
DTSTART;TZID=America/Chicago:20261105T130000
DTEND;TZID=America/Chicago:20261105T160000
DTSTAMP:20260420T135000
CREATED:20250526T212739Z
LAST-MODIFIED:20260104T020840Z
UID:26198-1793883600-1793894400@materialthingsshop.com
SUMMARY:Needlepoint Sit & Stitch
DESCRIPTION:This is a free sew day open to everyone that is a beginner or has years of experience in needlepoint…just come and go at your own pace\, bring your project or purchase a new one with no worries about signing up ahead of time!
URL:https://materialthingsshop.com/event/needlepoint-sit-stitch/2026-11-05/
LOCATION:MT Haberdashery\, 2305 Forsythe Ave\, Monroe\, LA\, 71201\, United States
CATEGORIES:Classes and Workshops
ATTACH;FMTTYPE=image/jpeg:https://materialthingsshop.com/wp-content/uploads/2025/05/C249941C-6CEB-487F-85B2-22960C47D9C2.jpg
END:VEVENT
BEGIN:VEVENT
DTSTART;TZID=America/Chicago:20261112T130000
DTEND;TZID=America/Chicago:20261112T160000
DTSTAMP:20260420T135000
CREATED:20250526T212739Z
LAST-MODIFIED:20260104T020841Z
UID:26199-1794488400-1794499200@materialthingsshop.com
SUMMARY:Needlepoint Sit & Stitch
DESCRIPTION:This is a free sew day open to everyone that is a beginner or has years of experience in needlepoint…just come and go at your own pace\, bring your project or purchase a new one with no worries about signing up ahead of time!
URL:https://materialthingsshop.com/event/needlepoint-sit-stitch/2026-11-12/
LOCATION:MT Haberdashery\, 2305 Forsythe Ave\, Monroe\, LA\, 71201\, United States
CATEGORIES:Classes and Workshops
ATTACH;FMTTYPE=image/jpeg:https://materialthingsshop.com/wp-content/uploads/2025/05/C249941C-6CEB-487F-85B2-22960C47D9C2.jpg
END:VEVENT
END:VCALENDAR